BEGIN:VCALENDAR
PRODID:-//Madách Színház//HU
VERSION:2.0
BEGIN:VEVENT
SUMMARY;LANGUAGE=hu-HU:Mamma Mia!
CLASS:PUBLIC
CREATED:20260422T192332Z
DESCRIPTION:Napfényben fürdő görög sziget. Mindent körbeölelő csillogó türkiz tenger. Hangulatos tavernák, ínycsiklandó étkek, mavrodaphne… Egyszerűen idilli - tökéletes felkeresni, ott időzni, visszatérni – s persze élni.
DTSTART:20261122T180000Z
DTEND:20261122T210000Z
SEQUENCE:0
UID:8251
LOCATION:Debrecen, Főnix Aréna\n4028 Debrecen\, Kassai út 28.
END:VEVENT
END:VCALENDAR
