BEGIN:VCALENDAR
PRODID:-//Madách Színház//HU
VERSION:2.0
BEGIN:VEVENT
SUMMARY;LANGUAGE=hu-HU:Mamma Mia!
CLASS:PUBLIC
CREATED:20260422T192758Z
DESCRIPTION:Napfényben fürdő görög sziget. Mindent körbeölelő csillogó türkiz tenger. Hangulatos tavernák, ínycsiklandó étkek, mavrodaphne… Egyszerűen idilli - tökéletes felkeresni, ott időzni, visszatérni – s persze élni.
DTSTART:20261120T180000Z
DTEND:20261120T210000Z
SEQUENCE:0
UID:8250
LOCATION:Győr, Audi Aréna\n9027 Győr\, Tóth László utca 4.
END:VEVENT
END:VCALENDAR
